BEGIN:VCALENDAR
VERSION:2.0
PRODID:-//ExpressionEngine Easy iCalendar plugin//NONSGML v2.0.1//EN
X-WR-TIMEZONE:America/New_York
X-WR-CALNAME:Upcoming Auctions
BEGIN:VEVENT
UID:89661
DTSTAMP:20230103T215900
DTSTART:20230103T215900
DTEND:20230110T193000
SUMMARY:Estate of the Late Howard and Milly Grizzard- Antiques\, Vint
 age Games\, RC Cola Collection\, Contents of Home
LOCATION:165 Lost Lane\, Durham\, NC 27713\, US
DESCRIPTION:Rogers Auctioneers\, Inc. 919-545-0412 NCFL7360
URL:https://www.rogersauction.com/auctions/detail/bw89661
SEQUENCE:1
END:VEVENT
END:VCALENDAR