BEGIN:VCALENDAR
VERSION:2.0
PRODID:-//ExpressionEngine Easy iCalendar plugin//NONSGML v2.0.1//EN
X-WR-TIMEZONE:America/New_York
X-WR-CALNAME:Upcoming Auctions
BEGIN:VEVENT
UID:161057
DTSTAMP:20260424T100524
DTSTART:20260424T100524
DTEND:19691231T200000
SUMMARY:Estate of the Late L. Mangum
LOCATION:128 Dixon St\, Asheboro\, NC 27203\, US
DESCRIPTION:Rogers Auctioneers\, Inc. 919-545-0412 NCFL7360
URL:https://www.rogersauction.com/auctions/detail/bw161057
SEQUENCE:1
END:VEVENT
END:VCALENDAR