BEGIN:VCALENDAR
VERSION:2.0
PRODID:-//ExpressionEngine Easy iCalendar plugin//NONSGML v2.0.0//EN
X-WR-TIMEZONE:America/New_York
X-WR-CALNAME:Upcoming Auctions
BEGIN:VEVENT
UID:160770
DTSTAMP:20260421T071014
DTSTART:20260421T071014
DTEND:19691231T200000
SUMMARY:2026 SPRING FIREARM & COIN CONSIGNMENT SALE
LOCATION:140 Seth Teague Rd \, Siler City \, NC 27344\, US
DESCRIPTION:Rogers Auctioneers\, Inc. 919-545-0412 NCFL7360
URL:https://www.rogersauction.com/auctions/detail/bw160770
SEQUENCE:1
END:VEVENT
END:VCALENDAR