BEGIN:VCALENDAR
VERSION:2.0
PRODID:-//ExpressionEngine Easy iCalendar plugin//NONSGML v2.0.0//EN
X-WR-TIMEZONE:America/New_York
X-WR-CALNAME:Upcoming Auctions
BEGIN:VEVENT
UID:160768
DTSTAMP:20260421T072019
DTSTART:20260421T072019
DTEND:19691231T200000
SUMMARY:May Coin Collection!
LOCATION:140 Seth Teague Rd \, Siler City \, NC 27344\, US
DESCRIPTION:Rogers Auctioneers\, Inc. 919-545-0412 NCFL7360
URL:https://www.rogersauction.com/auctions/detail/bw160768
SEQUENCE:1
END:VEVENT
END:VCALENDAR