BEGIN:VCALENDAR
VERSION:2.0
PRODID:-//ExpressionEngine Easy iCalendar plugin//NONSGML v2.0.1//EN
X-WR-TIMEZONE:America/New_York
X-WR-CALNAME:Upcoming Auctions
BEGIN:VEVENT
UID:155413
DTSTAMP:20260120T235500
DTSTART:20260120T235500
DTEND:20260128T193000
SUMMARY:Estate of the Late Brenda & Phil Fishel
LOCATION:1522 Jasper Lane \, Winston Salem\, NC 27127\, US
DESCRIPTION:Rogers Auctioneers\, Inc. 919-545-0412 NCFL7360
URL:https://www.rogersauction.com/auctions/detail/bw155413
SEQUENCE:1
END:VEVENT
END:VCALENDAR