BEGIN:VCALENDAR
VERSION:2.0
PRODID:-//ExpressionEngine Easy iCalendar plugin//NONSGML v2.0.1//EN
X-WR-TIMEZONE:America/New_York
X-WR-CALNAME:Upcoming Auctions
BEGIN:VEVENT
UID:155196
DTSTAMP:20260204T235500
DTSTART:20260204T235500
DTEND:20260212T193000
SUMMARY:Duck Decoys\, Artwork\, Ducks Unlimited Collectibles\, Bronze S
 tatues #12
LOCATION:140 Seth Teague Rd \, Siler City\, NC 27344\, US
DESCRIPTION:Rogers Auctioneers\, Inc. 919-545-0412 NCFL7360
URL:https://www.rogersauction.com/auctions/detail/bw155196
SEQUENCE:1
END:VEVENT
END:VCALENDAR