BEGIN:VCALENDAR
VERSION:2.0
PRODID:-//ExpressionEngine Easy iCalendar plugin//NONSGML v2.0.1//EN
X-WR-TIMEZONE:America/New_York
X-WR-CALNAME:Upcoming Auctions
BEGIN:VEVENT
UID:154513
DTSTAMP:20260211T235500
DTSTART:20260211T235500
DTEND:20260219T193000
SUMMARY:2026 WINTER FIREARM & COIN CONSIGNMENT SALE!
LOCATION:140 Seth Teague Rd \, Siler City \, NC 27344\, US
DESCRIPTION:Rogers Auctioneers\, Inc. 919-545-0412 NCFL7360
URL:https://www.rogersauction.com/auctions/detail/bw154513
SEQUENCE:1
END:VEVENT
END:VCALENDAR